BEGIN:VCALENDAR
VERSION:2.0
PRODID:-//Juuret - ECPv6.15.20//NONSGML v1.0//EN
CALSCALE:GREGORIAN
METHOD:PUBLISH
X-ORIGINAL-URL:https://juuret.net
X-WR-CALDESC:Tapahtumat Juuret
REFRESH-INTERVAL;VALUE=DURATION:PT1H
X-Robots-Tag:noindex
X-PUBLISHED-TTL:PT1H
BEGIN:VTIMEZONE
TZID:Europe/Helsinki
BEGIN:DAYLIGHT
TZOFFSETFROM:+0200
TZOFFSETTO:+0300
TZNAME:EEST
DTSTART:20210328T010000
END:DAYLIGHT
BEGIN:STANDARD
TZOFFSETFROM:+0300
TZOFFSETTO:+0200
TZNAME:EET
DTSTART:20211031T010000
END:STANDARD
BEGIN:DAYLIGHT
TZOFFSETFROM:+0200
TZOFFSETTO:+0300
TZNAME:EEST
DTSTART:20220327T010000
END:DAYLIGHT
BEGIN:STANDARD
TZOFFSETFROM:+0300
TZOFFSETTO:+0200
TZNAME:EET
DTSTART:20221030T010000
END:STANDARD
BEGIN:DAYLIGHT
TZOFFSETFROM:+0200
TZOFFSETTO:+0300
TZNAME:EEST
DTSTART:20230326T010000
END:DAYLIGHT
BEGIN:STANDARD
TZOFFSETFROM:+0300
TZOFFSETTO:+0200
TZNAME:EET
DTSTART:20231029T010000
END:STANDARD
END:VTIMEZONE
BEGIN:VEVENT
DTSTART;TZID=Europe/Helsinki:20221119T120000
DTEND;TZID=Europe/Helsinki:20221119T230000
DTSTAMP:20260424T120147
CREATED:20221110T122352Z
LAST-MODIFIED:20221110T122454Z
UID:578-1668859200-1668898800@juuret.net
SUMMARY:Avajaisviikonlopun lounas & illalliskattaus
DESCRIPTION:Ravintola Olkihattu avaa ovensa viikonloppukattauksin.  \n\n\n\nLounas 12€/hlö ja 20€/hlö. Illallinen 3-ruokalajia 50€/hlö & 5-ruokalajia 65€/hlö. \n\n\n\nLounas klo 12.00 – 15.00 & Illallinen klo 16.00 – 23.00
URL:https://juuret.net/tapahtuma/avajaisviikonlopun-illalliskattaus-2/
END:VEVENT
BEGIN:VEVENT
DTSTART;TZID=Europe/Helsinki:20221118T160000
DTEND;TZID=Europe/Helsinki:20221118T230000
DTSTAMP:20260424T120147
CREATED:20221110T122042Z
LAST-MODIFIED:20221110T122044Z
UID:574-1668787200-1668812400@juuret.net
SUMMARY:Avajaisviikonlopun illalliskattaus
DESCRIPTION:Ravintola Olkihattu avaa ovensa viikonloppukattauksin. \n\n\n\n3-ruokalajia 50€/hlö & 5-ruokalajia 65€/hlö
URL:https://juuret.net/tapahtuma/avajaisviikonlopun-illalliskattaus/
END:VEVENT
BEGIN:VEVENT
DTSTART;TZID=Europe/Helsinki:20221113T180000
DTEND;TZID=Europe/Helsinki:20221113T203000
DTSTAMP:20260424T120147
CREATED:20221021T133456Z
LAST-MODIFIED:20221021T133457Z
UID:271-1668362400-1668371400@juuret.net
SUMMARY:Isänpäivä päivällinen 18.00-20.30
DESCRIPTION:Ravintola Olkihatussa juhlitaan isänpäivää juhlavalla kattauksella. Rauhallisesti\, vanhassa navetassa. Lounas sisältää 3-ruokaljia.Aikuiset 50\,00 € / hlöLasten pääruoka (6-12v.) 13\,50 € / hlöVaraukset 10.11. mennessä olkihattu@juuret.net
URL:https://juuret.net/tapahtuma/isanpaiva-paivallinen-18-00-20-30/
END:VEVENT
BEGIN:VEVENT
DTSTART;TZID=Europe/Helsinki:20221113T150000
DTEND;TZID=Europe/Helsinki:20221113T170000
DTSTAMP:20260424T120147
CREATED:20221021T133346Z
LAST-MODIFIED:20221021T133542Z
UID:268-1668351600-1668358800@juuret.net
SUMMARY:Isänpäivä päivällinen 15.00-17.00
DESCRIPTION:Ravintola Olkihatussa juhlitaan isänpäivää juhlavalla kattauksella. Rauhallisesti\, vanhassa navetassa. Lounas sisältää 3-ruokaljia.Aikuiset 50\,00 € / hlöLasten pääruoka (6-12v.) 13\,50 € / hlöVaraukset 10.11. mennessä olkihattu@juuret.net
URL:https://juuret.net/tapahtuma/isanpaiva-paivallinen/
END:VEVENT
BEGIN:VEVENT
DTSTART;TZID=Europe/Helsinki:20221113T120000
DTEND;TZID=Europe/Helsinki:20221113T140000
DTSTAMP:20260424T120147
CREATED:20221021T133242Z
LAST-MODIFIED:20221021T133609Z
UID:265-1668340800-1668348000@juuret.net
SUMMARY:Isänpäivälounas 12.00-14.00
DESCRIPTION:Ravintola Olkihatussa juhlitaan isänpäivää juhlavalla kattauksella. Rauhallisesti\, vanhassa navetassa. Lounas sisältää 3-ruokaljia.Aikuiset 50\,00 € / hlöLasten pääruoka (6-12v.) 13\,50 € / hlöVaraukset 10.11. mennessä olkihattu@juuret.net
URL:https://juuret.net/tapahtuma/isanpaivalounas/
END:VEVENT
BEGIN:VEVENT
DTSTART;TZID=Europe/Helsinki:20220527T190000
DTEND;TZID=Europe/Helsinki:20220527T210000
DTSTAMP:20260424T120147
CREATED:20220506T181414Z
LAST-MODIFIED:20220524T063157Z
UID:228-1653678000-1653685200@juuret.net
SUMMARY:Olkihattu Live! feat. Sini Ikolampi Duo
DESCRIPTION:Upea saksofoni taituri Sini ”SAX” Ikolampi kiipeää Olkihatun lavalla mukanaan pianisti Janne Vilonen \n\n\n\n\n\nSaksofoni ja piano luovat bändin ainutlaatuisen soundin. Vuonna 2000 perustettu yli tuhat keikkaa tehnyt kokoonpano tuo mukanaan rennon tunnelman\, Upean musiikin välityksellä. \n\n\n\nSini Sax on valovoimainen ja inspiroiva esiintyjä. Sini on nähty maalla\, merellä\, maailmalla\, festareilla\, TV -kapellimestarina\, radio- ja TV-mainoksissa\, konserteissa ja jopa purjeveneen nokassa esiintymässä. Hän on myös säestänyt suomalaisia eturivin artisteja ja featannut albumeilla. \n\n\n\nIlmainen sisäänpääsyShowtime 19.00
URL:https://juuret.net/tapahtuma/olkihattu-live-feat-sini-ikolampi-duo/
END:VEVENT
BEGIN:VEVENT
DTSTART;TZID=Europe/Helsinki:20220521T190000
DTEND;TZID=Europe/Helsinki:20220521T210000
DTSTAMP:20260424T120147
CREATED:20220506T181106Z
LAST-MODIFIED:20220506T181107Z
UID:225-1653159600-1653166800@juuret.net
SUMMARY:Olkihattu Live! feat. Kaksi kitaraa
DESCRIPTION:Kitara-Legenda Juha Björninen valtaa Olkihatun lavan yhdessä kitaristi Wiljami Salmisen kanssa
URL:https://juuret.net/tapahtuma/olkihattu-live-feat-kaksi-kitaraa/
END:VEVENT
BEGIN:VEVENT
DTSTART;TZID=Europe/Helsinki:20220521T110000
DTEND;TZID=Europe/Helsinki:20220521T150000
DTSTAMP:20260424T120147
CREATED:20220329T182613Z
LAST-MODIFIED:20220329T182614Z
UID:172-1653130800-1653145200@juuret.net
SUMMARY:Hyvä työ
DESCRIPTION:Löydä merkitys – jaksa paremmin \n\n\n\nLauantain Avoimet – hyvää oloa kaikille \n\n\n\nVaraukset ja tiedustelut olkihattu@juuret.net
URL:https://juuret.net/tapahtuma/hyva-tyo/
END:VEVENT
BEGIN:VEVENT
DTSTART;TZID=Europe/Helsinki:20220520T120000
DTEND;TZID=Europe/Helsinki:20220520T160000
DTSTAMP:20260424T120147
CREATED:20220329T182921Z
LAST-MODIFIED:20220329T182941Z
UID:181-1653048000-1653062400@juuret.net
SUMMARY:Yrittäjien perjantaisparri
DESCRIPTION:Tee tulosta ja voi hyvin \n\n\n\nPerjantain Avoimet – onnistu johtajana \n\n\n\nVaraukset ja tiedustelut olkihattu@juuret.net
URL:https://juuret.net/tapahtuma/yrittajien-perjantaisparri/
END:VEVENT
BEGIN:VEVENT
DTSTART;TZID=Europe/Helsinki:20220514T110000
DTEND;TZID=Europe/Helsinki:20220514T150000
DTSTAMP:20260424T120147
CREATED:20220329T182409Z
LAST-MODIFIED:20220329T182410Z
UID:168-1652526000-1652540400@juuret.net
SUMMARY:Hyvä erityisen erikoinen minä
DESCRIPTION:Introvertti/ekstrovertti/ambivertti… \n\n\n\nLauantain Avoimet – hyvää oloa kaikillehttps://juuret.net/wp-content/uploads/2022/03/Olkihattu-pe-la-yhd-20220214.pdf \n\n\n\nVaraukset ja tiedustelut olkihattu@juuret.net
URL:https://juuret.net/tapahtuma/hyva-erityisen-erikoinen-mina/
END:VEVENT
BEGIN:VEVENT
DTSTART;TZID=Europe/Helsinki:20220508T120000
DTEND;TZID=Europe/Helsinki:20220508T170000
DTSTAMP:20260424T120147
CREATED:20220426T043849Z
LAST-MODIFIED:20220426T043851Z
UID:198-1652011200-1652029200@juuret.net
SUMMARY:Äitienpäivä
DESCRIPTION:Olkihatussa juhlitaan Äitejä!Kattausajat 12.00 – 14.30 ja 15.00 – 17.30 \n\n\n\nMenuRaikas salaattipöytäToukosen kukkaissalaattia G\, L\, MPerunamaan salaattia ja ruohosipulia G\, LKuusamon Juuston juustosalaattia G\, LLuomu kurkkua ja punasipulia G\, L\, MJuoksevaa tyrniä G\, L\, M \n\n\n\nSormisyötävät buffeestaSkagenia Olkihatun tapaan LSavukirjolohta ja limppua LSientä ja punasipulia G\, LOlki Leipomon vaaleaa leipää L\, MVaahdotettua ruskeaa voita G\, L \n\n\n\nPääruoka LautastarjoiltunaViikon liha*Keväiset lisukkeet \n\n\n\nViikon kala*Keväiset lisukkeet \n\n\n\nLapsille maukkaita lihapullia \n\n\n\nJälkiruokapöytä:Olkihattu leipomon täytekakkua G\, LMacaron leivoksia G\, L
URL:https://juuret.net/tapahtuma/aitienpaiva/
END:VEVENT
BEGIN:VEVENT
DTSTART;TZID=Europe/Helsinki:20220429T120000
DTEND;TZID=Europe/Helsinki:20220429T160000
DTSTAMP:20260424T120147
CREATED:20220329T182820Z
LAST-MODIFIED:20220329T182821Z
UID:178-1651233600-1651248000@juuret.net
SUMMARY:Valmentava työote
DESCRIPTION:Johda osaajia oikein \n\n\n\nPerjantain Avoimet – onnistu johtajana
URL:https://juuret.net/tapahtuma/valmentava-tyoote/
END:VEVENT
BEGIN:VEVENT
DTSTART;TZID=Europe/Helsinki:20220409T110000
DTEND;TZID=Europe/Helsinki:20220409T150000
DTSTAMP:20260424T120147
CREATED:20220329T182158Z
LAST-MODIFIED:20220329T182441Z
UID:164-1649502000-1649516400@juuret.net
SUMMARY:Hyvä olo ja mieli
DESCRIPTION:Lauantain Avoimet – hyvää oloa kaikille \n\n\n\nÄlyä tunteesi – tunne älysi \n\n\n\nVaraukset ja tiedustelut olkihattu@juuret.net
URL:https://juuret.net/tapahtuma/hyva-olo-ja-mieli/
END:VEVENT
BEGIN:VEVENT
DTSTART;TZID=Europe/Helsinki:20220408T120000
DTEND;TZID=Europe/Helsinki:20220408T160000
DTSTAMP:20260424T120147
CREATED:20220329T182718Z
LAST-MODIFIED:20220329T182719Z
UID:175-1649419200-1649433600@juuret.net
SUMMARY:Hybridityön johtaminen
DESCRIPTION:Perjantain Avoimet – onnistu johtajana
URL:https://juuret.net/tapahtuma/hybridityon-johtaminen/
END:VEVENT
END:VCALENDAR